BEGIN:VCALENDAR
VERSION:2.0
PRODID:-//Business in Heels EVENTS - ECPv6.15.20//NONSGML v1.0//EN
CALSCALE:GREGORIAN
METHOD:PUBLISH
X-ORIGINAL-URL:https://events.businessinheels.com
X-WR-CALDESC:Events for Business in Heels EVENTS
REFRESH-INTERVAL;VALUE=DURATION:PT1H
X-Robots-Tag:noindex
X-PUBLISHED-TTL:PT1H
BEGIN:VTIMEZONE
TZID:Australia/Melbourne
BEGIN:STANDARD
TZOFFSETFROM:+1100
TZOFFSETTO:+1000
TZNAME:AEST
DTSTART:20240406T160000
END:STANDARD
BEGIN:DAYLIGHT
TZOFFSETFROM:+1000
TZOFFSETTO:+1100
TZNAME:AEDT
DTSTART:20241005T160000
END:DAYLIGHT
BEGIN:STANDARD
TZOFFSETFROM:+1100
TZOFFSETTO:+1000
TZNAME:AEST
DTSTART:20250405T160000
END:STANDARD
BEGIN:DAYLIGHT
TZOFFSETFROM:+1000
TZOFFSETTO:+1100
TZNAME:AEDT
DTSTART:20251004T160000
END:DAYLIGHT
BEGIN:STANDARD
TZOFFSETFROM:+1100
TZOFFSETTO:+1000
TZNAME:AEST
DTSTART:20260404T160000
END:STANDARD
BEGIN:DAYLIGHT
TZOFFSETFROM:+1000
TZOFFSETTO:+1100
TZNAME:AEDT
DTSTART:20261003T160000
END:DAYLIGHT
BEGIN:STANDARD
TZOFFSETFROM:+1100
TZOFFSETTO:+1000
TZNAME:AEST
DTSTART:20270403T160000
END:STANDARD
BEGIN:DAYLIGHT
TZOFFSETFROM:+1000
TZOFFSETTO:+1100
TZNAME:AEDT
DTSTART:20271002T160000
END:DAYLIGHT
END:VTIMEZONE
BEGIN:VEVENT
DTSTART;TZID=Australia/Melbourne:20260326T071500
DTEND;TZID=Australia/Melbourne:20260326T083000
DTSTAMP:20260425T111945
CREATED:20260218T041227Z
LAST-MODIFIED:20260227T011035Z
UID:10000346-1774509300-1774513800@events.businessinheels.com
SUMMARY:Licensing International Mentor Morning – Melbourne - 26/03/2026
DESCRIPTION:Licensing International Mentor Morning – Melbourne \nStart your day with a real conversation with someone who knows the licensing industry inside out. \n\nLicensing International Mentor Mornings are structured one on one mentoring sessions designed to help you build connections\, get clarity\, and leave with practical next steps. Whether you are new to licensing or looking to level up your career\, you will be matched with an experienced industry mentor for a focused conversation. \n\nPast attendees tell us the format makes the industry feel clear and accessible\, “licensing explained in a way that made sense”\, and that it is “not networking for the sake of it\, but an actual conversation” with direct advice. \n\nWho it is for\nRetailers\, licensees\, agents\, brand owners\, marketers\, and students\, anyone building a pathway in licensing\, brand partnerships\, retail\, and consumer products. \n\nWhat you will get\n• A clearer understanding of how licensing works in the real world\n• Practical advice on roles\, pathways\, and who to connect with next\n• Insight into how global strategies adapt to the Australian market\n• A supportive space to ask questions\, explore options\, and build confidence \n\nWhat our attendees have said\n\n\n“One on one format was amazing\, it wasn’t just networking for the sake of it\, but an actual conversation where I could ask focused questions and get direct advice.”\n“I found the session highly beneficial\, I got to hear from industry professionals about the work they do and how it is undertaken.”\n“Lincoln explained licensing in a way that made sense… it made the concept feel much more real.”\n“It broadened my thinking and gave me helpful takeaways.”\n\nTickets are typically $20 to $25 and registration is required so we can match mentors and mentees and ensure the right ratio on the day. \n\nInterested in being a mentor? Contact Lisa Sweeney\, lsweeney@licensing.org\n			\n				Meet The Mentors
URL:https://events.businessinheels.com/event/licensing-international-mentor-morning-melbourne-26-03-2026/
LOCATION:Laurent Bakery\, Como Centre\, 279 Toorak Road\, South Yarra\, VIC\, 3141\, Australia
CATEGORIES:Melbourne CBD
ATTACH;FMTTYPE=image/avif:https://events.businessinheels.com/wp-content/uploads/2026/02/3295b930-0afb-11f1-ad17-0242ac120002-1.avif
ORGANIZER;CN="lsweeney@licensing.org":MAILTO:lsweeney@licensing.org
END:VEVENT
BEGIN:VEVENT
DTSTART;TZID=Australia/Melbourne:20250821T071500
DTEND;TZID=Australia/Melbourne:20250821T083000
DTSTAMP:20260425T111945
CREATED:20250225T024040Z
LAST-MODIFIED:20250602T054901Z
UID:10000304-1755760500-1755765000@events.businessinheels.com
SUMMARY:Licensing Mentor Mornings - 21/08/2025
DESCRIPTION:🚀 Introducing Licensing International Mentor Morning brought to you by Disney Consumer Products! 🚀\nAre you ready to grow and connect with leaders in the licensing industry?  Unlock Your Potential with Mentor Mornings\, a dynamic\, early-morning session designed to empower professionals like you. \n🌟 Who Should Attend? \n\nThose feeling unsure about their next steps\nThose facing challenges and looking for solutions\nAmbitious professionals eager to overcome obstacles and explore new opportunities\n\nHere’s what to expect:\n• 7:15 AM: Start your day with an excellent coffee and some networking.\n• 7:30 AM: Dive into a 1-on-1 conversation with a mentor – our mentors are industry leaders and experts ready to share insights and guidance.\n• 8:30 AM: Wrap up\, energized and inspired for the day ahead! \n✨ Why Attend?\n• Gain valuable insights from experienced mentors.\n• Address roadblocks and unlock new opportunities.\n• Experience a safe\, supportive space to share your aspirations. \n\n\n\n\nDon’t miss out—your future is waiting! \n\n\n\n\n\n\n\n\nThe cost is $20-$25 for a ticket and you do need to register so we can be sure we have the right number of mentors & mentees. \nIf you are interested in being a mentor then please contact Lisa Sweeney – lsweeney@licensing.org. \n\n\n\n\n			\n			\n				\n				\n				\n				\n			\n				\n				\n				\n				\n				\n				\n				\n				\n				\n				\n				If you think you don’t need a mentor – you probably do! We all are great at providing advice/coaching others but don’t take heed of it ourselves – having that mirror reflected back is really good to just take a moment and reflect on where you are going and what it is you want to achieve. My mentor did exactly that for me which I appreciated! Sharon \n			\n			\n				\n				\n				\n				\n				\n				\n				\n				\n				\n				It was a great experience to be able to express concerns and intentions for the business and have an outsiders input without bias. No matter how experienced you are in business\, the mentoring is worthwhile to help you keep in check. Helen Vertoudakis \n			\n			\n				\n				\n				\n				\n				\n				\n				\n				\n				\n				Would love to attend again! it was a very efficient use of an early morning 🙂 Angela Smith is wonderful and gave a lot to the discussion. Eileen Catindig \n			\n			\n				\n				\n				\n				\n			\n				\n				\n				\n				\n				\n				\n				\n				\n				\n				\n				The cost is $20 for a ticket and you do need to register so we can be sure we have the right number of mentors & mentees. \n			\n				Meet The Mentors
URL:https://events.businessinheels.com/event/disney-mentor-mornings-21-08-2025/
LOCATION:Laurent Bakery\, Como Centre\, 279 Toorak Road\, South Yarra\, VIC\, 3141\, Australia
CATEGORIES:Melbourne CBD
ATTACH;FMTTYPE=image/png:https://events.businessinheels.com/wp-content/uploads/2025/02/Licensing-MM-21082025.png
ORGANIZER;CN="info@businessinheels.com":MAILTO:info@businessinheels.com
END:VEVENT
BEGIN:VEVENT
DTSTART;TZID=Australia/Melbourne:20250219T071500
DTEND;TZID=Australia/Melbourne:20250219T083000
DTSTAMP:20260425T111945
CREATED:20250102T232714Z
LAST-MODIFIED:20250217T234758Z
UID:10000303-1739949300-1739953800@events.businessinheels.com
SUMMARY:Licensing Mentor Mornings - 19/02/2025
DESCRIPTION: Introducing Licensing International Mentor Mornings brought to you by Disney Consumer Products🚀\nAre you ready to grow and connect with leaders in the licensing industry? Unlock Your Potential with Mentor Mornings\,  a dynamic\, early-morning session designed to empower professionals like you. \n🌟 Who Should Attend? \n\nThose feeling unsure about their next steps\nThose facing challenges and looking for solutions\nAmbitious professionals eager to overcome obstacles and explore new opportunities\n\nHere’s what to expect:• 7:15 AM: Start your day with an excellent coffee and some networking.• 7:30 AM: Dive into a 1-on-1 conversation with a mentor – our mentors are industry leaders and experts ready to share insights and guidance.• 8:30 AM: Wrap up\, energized and inspired for the day ahead! \n✨ Why Attend?• Gain valuable insights from experienced mentors.• Address roadblocks and unlock new opportunities.• Experience a safe\, supportive space to share your aspirations. \nDid you know that mentored individuals are promoted 5x more often? Don’t miss this chance to invest in your future!Don’t miss this opportunity to exchange ideas\, gain fresh perspectives\, and build connections that can accelerate your career. \nJoin us for an inspiring hour of coffee\, conversation\, and mentorship! You’ll be paired with an experienced mentor to openly discuss your challenges and aspirations\, gaining fresh insights and new possibilities. Consider this a “mentoring taster” to jumpstart your journey to success. \n                                                     Don’t miss out—your future is waiting! \n\n			\n			\n				\n				\n				\n				\n			\n				\n				\n				\n				\n				\n				\n				\n				\n				\n				\n				The cost is $20-$25 for a ticket and you do need to register so we can be sure we have the right number of mentors & mentees. \nIf you are interested in being a mentor then please contact Lisa Sweeney lsweeney@licensing.org
URL:https://events.businessinheels.com/event/licensing-mentor-mornings-19-02-2025/
LOCATION:Laurent Bakery\, Como Centre\, 279 Toorak Road\, South Yarra\, VIC\, 3141\, Australia
CATEGORIES:Melbourne CBD
ATTACH;FMTTYPE=image/jpeg:https://events.businessinheels.com/wp-content/uploads/2025/01/General-Banner-Fbook-size-final.jpg
ORGANIZER;CN="info@businessinheels.com":MAILTO:info@businessinheels.com
END:VEVENT
END:VCALENDAR