BEGIN:VCALENDAR
VERSION:2.0
PRODID:-//Business in Heels EVENTS - ECPv6.15.20//NONSGML v1.0//EN
CALSCALE:GREGORIAN
METHOD:PUBLISH
X-ORIGINAL-URL:https://events.businessinheels.com
X-WR-CALDESC:Events for Business in Heels EVENTS
REFRESH-INTERVAL;VALUE=DURATION:PT1H
X-Robots-Tag:noindex
X-PUBLISHED-TTL:PT1H
BEGIN:VTIMEZONE
TZID:Australia/Melbourne
BEGIN:STANDARD
TZOFFSETFROM:+1100
TZOFFSETTO:+1000
TZNAME:AEST
DTSTART:20240406T160000
END:STANDARD
BEGIN:DAYLIGHT
TZOFFSETFROM:+1000
TZOFFSETTO:+1100
TZNAME:AEDT
DTSTART:20241005T160000
END:DAYLIGHT
BEGIN:STANDARD
TZOFFSETFROM:+1100
TZOFFSETTO:+1000
TZNAME:AEST
DTSTART:20250405T160000
END:STANDARD
BEGIN:DAYLIGHT
TZOFFSETFROM:+1000
TZOFFSETTO:+1100
TZNAME:AEDT
DTSTART:20251004T160000
END:DAYLIGHT
BEGIN:STANDARD
TZOFFSETFROM:+1100
TZOFFSETTO:+1000
TZNAME:AEST
DTSTART:20260404T160000
END:STANDARD
BEGIN:DAYLIGHT
TZOFFSETFROM:+1000
TZOFFSETTO:+1100
TZNAME:AEDT
DTSTART:20261003T160000
END:DAYLIGHT
END:VTIMEZONE
BEGIN:VEVENT
DTSTART;TZID=Australia/Melbourne:20251202T123000
DTEND;TZID=Australia/Melbourne:20251202T143000
DTSTAMP:20260420T193640
CREATED:20251027T035836Z
LAST-MODIFIED:20251130T220326Z
UID:10000320-1764678600-1764685800@events.businessinheels.com
SUMMARY:Xmas Party & Kris Kringle Geelong 2025
DESCRIPTION:Embrace the spirit of Christmas with a touch of local flair! Join us for a delightful Christmas High Tea\, featuring indigenous tastes of the Geelong region. It’s not just a lunchtime event; it’s your opportunity to connect and network with the accomplished businesswomen of Geelong in a relaxed and welcoming atmosphere. \nThe Kris Kringle part is that everyone will go home with a bottle of wine\, and a couple will get special gift vouchers to Rixons on Pakington. If you would like to provide a gift showcasing your business\, then do let us know. \nWhere : Davidson’s Restaurant at The Gordon \nWhen: Tuesday 2nd December 12.30 -2.30 pm \n  \nWe invite you to savour the flavours of our region\, expertly curated into a delectable high tea experience. As we celebrate the season\, we’ll also celebrate our community of strong and inspiring women. Here’s what we have in store for you. \nIndigenous Tastes: Explore a menu that highlights the rich and diverse flavours of our region\, featuring ingredients and culinary traditions from the indigenous communities of Geelong. \nThe Menu (indicative) \nSelection of finger sandwiches \nHouse made pork & pistachio sausage rolls with bush tomato chutney GF \nPumpkin and Davidson plum spiced arancini with burnt native honey mustard V\,LG \nPotato\, leek and native pepper tortilla\, onion soubise and wild spinach pistou V\,LG \nBeetroot & aniseed myrtle cured salmon\, rice wafers\, goat curd &amp; finger lime LG \nGum smoked Emu\, polenta\, truffle alioli LG \nShaved serrano ham\, wild garlic\, bruschetta LG \nCarrot cake\, bush honey & goats curd icing V \nPassion fruit curd with macadamia meringue V\,LG \nChocolate tart\, double cream & wattleseed crumbs V \n Alcoholic drinks are available from the bar on a pay-as-you-go basis\, including some special Christmas Cocktails.
URL:https://events.businessinheels.com/event/xmas-party-kris-kringle/
LOCATION:Davidsons Restaurant at The Gordon\, 2 Fenwick Street\, Geelong\, Victoria\, 3220\, Australia
CATEGORIES:Geelong
ATTACH;FMTTYPE=image/webp:https://events.businessinheels.com/wp-content/uploads/2025/10/Christmas-Party-scaled.webp
ORGANIZER;CN="info@businessinheels.com":MAILTO:info@businessinheels.com
END:VEVENT
END:VCALENDAR